BEGIN:VCALENDAR
VERSION:2.0
PRODID:-//Squarespace Inc/Squarespace 6//v6//EN
BEGIN:VEVENT
UID:57c16364725e258e4bdd1884@squarespace.com
DTSTAMP:20160827T095917Z
DTSTART:20160910T190000Z
DTEND:20160911T230000Z
SUMMARY:Unite Expression\, Wild Women Sour launch
GEO:-43.153671;172.727776
LOCATION:Brew Moon Brewery\, 12 Markham Street\, Amberley\, Canterbury\, 74
 10\, New Zealand
END:VEVENT
END:VCALENDAR
