BEGIN:VCALENDAR
VERSION:2.0
PRODID:-//Squarespace Inc/Squarespace 6//v6//EN
BEGIN:VEVENT
UID:57c15e3020099e1e8b2db254@squarespace.com
DTSTAMP:20160827T095211Z
DTSTART:20160830T213000Z
DTEND:20160930T233000Z
SUMMARY:Pink Boots / Three Boys / Cryer Malt White IPA Chch launch
GEO:-43.530041;172.633038
LOCATION:WHET Drinking Room\, 151 Cambridge Terrace\, Christchurch\, Canter
 bury\, 8013\, New Zealand
END:VEVENT
END:VCALENDAR
