BEGIN:VCALENDAR
VERSION:2.0
PRODID:-//Squarespace Inc/Squarespace 6//v6//EN
BEGIN:VEVENT
UID:57c1013a4402439cf67064aa@squarespace.com
DTSTAMP:20161006T012934Z
DTSTART:20161007T211500Z
DTEND:20161007T221500Z
SUMMARY:Pink Boots AGM
GEO:-36.851306;174.760128
LOCATION:The Heritage Hotel\, Hobson Street\, Auckland\, Auckland\, 1010\, 
 New Zealand
END:VEVENT
END:VCALENDAR
